BEGIN:VCALENDAR
VERSION:2.0
CALSCALE:GREGORIAN
PRODID:adamgibbons/ics
METHOD:PUBLISH
X-PUBLISHED-TTL:PT1H
BEGIN:VEVENT
UID:18228@live-siegen.de
SUMMARY:Jamsession
DTSTAMP:20260419T133813Z
DTSTART:20260515T180000Z
DESCRIPTION:JAMSESSION IM KULT\n\n\n\n\nDie Jamsession im Kult gibt es seit
	 Mitte 2022. Hier ist jeder Willkommen der\nsich auf der Bühne einbringen/
	ausprobieren möchte oder einfach nur Musik\ngenießt.\n\nEin Grundstock an 
	Instrumenten steht zur Verfügung ( Gitarre\, Bass\, Drums\,\nGesangsmikros
	 )\nGerne könnt ihr aber auch euren eigenen Instrumente mitbringen. Ob Sax
	ophon\,\nDuddelsack oder Chello\, bringt es mit. Im Optimalfall habt ihr a
	uch ein\nSpezialmikrofon vorbei\, ansonsten finden wir aber auch was vor O
	rt um euch Gehör\nzu verschaffen.\n\nBei Fragen könnt ihr euch gerne an Fe
	lix Schwemlein(f.schwemlein@gmail.com\n[f.schwemlein@gmail.com]) wenden.\n
	\nWie bei jeder\, auf dieser Seite veröffentlichten\, Veranstaltung gilt a
	uch hier.\nRassismus und Sexismus finden wir scheiße!
URL:https://live-siegen.de/event/jamsession-18184
GEO:50.911788200000004;8.024151915571391
LOCATION:KultKaff - Hölderlinstraße\, 57076 Siegen
STATUS:CONFIRMED
CATEGORIES:Handgemacht,Jam,Kult,Kultjam,Musik,0815,0815-jam
X-ALT-DESC;FMTTYPE=text/html:<h1>Jamsession im Kult</h1><h1></h1><p>Die Jam
	session im Kult gibt es seit Mitte 2022. Hier ist jeder Willkommen der sic
	h auf der Bühne einbringen/ausprobieren möchte oder einfach nur Musik geni
	eßt.<br><br>Ein Grundstock an Instrumenten steht zur Verfügung ( Gitarre, 
	Bass, Drums, Gesangsmikros )<br>Gerne könnt ihr aber auch euren eigenen In
	strumente mitbringen. Ob Saxophon, Duddelsack oder Chello, bringt es mit. 
	Im Optimalfall habt ihr auch ein Spezialmikrofon vorbei, ansonsten finden 
	wir aber auch was vor Ort um euch Gehör zu verschaffen.<br><br>Bei Fragen 
	könnt ihr euch gerne an Felix Schwemlein(<a href="mailto:f.schwemlein@gmai
	l.com" target="_blank">f.schwemlein@gmail.com</a>) wenden.<br><br>Wie bei 
	jeder, auf dieser Seite veröffentlichten, Veranstaltung gilt auch hier. <s
	trong>Rassismus und Sexismus finden wir scheiße!</strong></p>
BEGIN:VALARM
ACTION:DISPLAY
DESCRIPTION:Jamsession
TRIGGER:-PT1H
END:VALARM
END:VEVENT
END:VCALENDAR
